BEGIN:VCALENDAR
VERSION:2.0
PRODID:-//Gravenstein Parent Association (We are GPA!) - ECPv6.15.20//NONSGML v1.0//EN
CALSCALE:GREGORIAN
METHOD:PUBLISH
X-ORIGINAL-URL:https://wearegpa.com
X-WR-CALDESC:Events for Gravenstein Parent Association (We are GPA!)
REFRESH-INTERVAL;VALUE=DURATION:PT1H
X-Robots-Tag:noindex
X-PUBLISHED-TTL:PT1H
BEGIN:VTIMEZONE
TZID:America/Los_Angeles
BEGIN:DAYLIGHT
TZOFFSETFROM:-0800
TZOFFSETTO:-0700
TZNAME:PDT
DTSTART:20240310T100000
END:DAYLIGHT
BEGIN:STANDARD
TZOFFSETFROM:-0700
TZOFFSETTO:-0800
TZNAME:PST
DTSTART:20241103T090000
END:STANDARD
BEGIN:DAYLIGHT
TZOFFSETFROM:-0800
TZOFFSETTO:-0700
TZNAME:PDT
DTSTART:20250309T100000
END:DAYLIGHT
BEGIN:STANDARD
TZOFFSETFROM:-0700
TZOFFSETTO:-0800
TZNAME:PST
DTSTART:20251102T090000
END:STANDARD
BEGIN:DAYLIGHT
TZOFFSETFROM:-0800
TZOFFSETTO:-0700
TZNAME:PDT
DTSTART:20260308T100000
END:DAYLIGHT
BEGIN:STANDARD
TZOFFSETFROM:-0700
TZOFFSETTO:-0800
TZNAME:PST
DTSTART:20261101T090000
END:STANDARD
END:VTIMEZONE
BEGIN:VEVENT
DTSTART;TZID=America/Los_Angeles:20250501T170000
DTEND;TZID=America/Los_Angeles:20250501T220000
DTSTAMP:20260425T045642
CREATED:20250114T193632Z
LAST-MODIFIED:20250114T193634Z
UID:3575-1746118800-1746136800@wearegpa.com
SUMMARY:Dine & Donate: The Rewind Arcade
DESCRIPTION:Join us at The Rewind Arcade for our Dine & Donate partner. Every first Thursday of the month. Play some video & pinball and grab some food from the Barlow. 10% of all beer sales is donated to GPA. 5-8pm for Kids/Adults 8-10pm for 21+ only.
URL:https://wearegpa.com/event/dine-donate-the-rewind-arcade-5/
LOCATION:The Rewind Arcade\, 6780 Depot St #140\, Sebastopol\, CA\, 95472\, United States
CATEGORIES:Gravenstein Elementary,Hillcrest Event,School Wide Event
ATTACH;FMTTYPE=image/jpeg:https://wearegpa.com/wp-content/uploads/2025/01/GPA-Night-at-The-Rewind-Flyer.jpg
END:VEVENT
END:VCALENDAR