BEGIN:VCALENDAR
VERSION:2.0
PRODID:-//Gravenstein Parent Association (We are GPA!) - ECPv6.15.20//NONSGML v1.0//EN
CALSCALE:GREGORIAN
METHOD:PUBLISH
X-ORIGINAL-URL:https://wearegpa.com
X-WR-CALDESC:Events for Gravenstein Parent Association (We are GPA!)
REFRESH-INTERVAL;VALUE=DURATION:PT1H
X-Robots-Tag:noindex
X-PUBLISHED-TTL:PT1H
BEGIN:VTIMEZONE
TZID:America/Los_Angeles
BEGIN:DAYLIGHT
TZOFFSETFROM:-0800
TZOFFSETTO:-0700
TZNAME:PDT
DTSTART:20240310T100000
END:DAYLIGHT
BEGIN:STANDARD
TZOFFSETFROM:-0700
TZOFFSETTO:-0800
TZNAME:PST
DTSTART:20241103T090000
END:STANDARD
BEGIN:DAYLIGHT
TZOFFSETFROM:-0800
TZOFFSETTO:-0700
TZNAME:PDT
DTSTART:20250309T100000
END:DAYLIGHT
BEGIN:STANDARD
TZOFFSETFROM:-0700
TZOFFSETTO:-0800
TZNAME:PST
DTSTART:20251102T090000
END:STANDARD
BEGIN:DAYLIGHT
TZOFFSETFROM:-0800
TZOFFSETTO:-0700
TZNAME:PDT
DTSTART:20260308T100000
END:DAYLIGHT
BEGIN:STANDARD
TZOFFSETFROM:-0700
TZOFFSETTO:-0800
TZNAME:PST
DTSTART:20261101T090000
END:STANDARD
END:VTIMEZONE
BEGIN:VEVENT
DTSTART;VALUE=DATE:20250516
DTEND;VALUE=DATE:20250517
DTSTAMP:20260425T033604
CREATED:20250114T195656Z
LAST-MODIFIED:20250114T195658Z
UID:3585-1747353600-1747439999@wearegpa.com
SUMMARY:Hillcrest Color Run
DESCRIPTION:Hillcrest Middle schoolers will be jogging to raise money for GPA! More details to come!!
URL:https://wearegpa.com/event/hillcrest-color-run/
LOCATION:Hillcrest Middle School\, 725 Bloomfield Rd\, Sebastopol\, CA\, 95472\, United States
CATEGORIES:Hillcrest Event
END:VEVENT
END:VCALENDAR