BEGIN:VCALENDAR
VERSION:2.0
PRODID:-//Gravenstein Parent Association (We are GPA!) - ECPv6.15.20//NONSGML v1.0//EN
CALSCALE:GREGORIAN
METHOD:PUBLISH
X-ORIGINAL-URL:https://wearegpa.com
X-WR-CALDESC:Events for Gravenstein Parent Association (We are GPA!)
REFRESH-INTERVAL;VALUE=DURATION:PT1H
X-Robots-Tag:noindex
X-PUBLISHED-TTL:PT1H
BEGIN:VTIMEZONE
TZID:America/Los_Angeles
BEGIN:DAYLIGHT
TZOFFSETFROM:-0800
TZOFFSETTO:-0700
TZNAME:PDT
DTSTART:20240310T100000
END:DAYLIGHT
BEGIN:STANDARD
TZOFFSETFROM:-0700
TZOFFSETTO:-0800
TZNAME:PST
DTSTART:20241103T090000
END:STANDARD
BEGIN:DAYLIGHT
TZOFFSETFROM:-0800
TZOFFSETTO:-0700
TZNAME:PDT
DTSTART:20250309T100000
END:DAYLIGHT
BEGIN:STANDARD
TZOFFSETFROM:-0700
TZOFFSETTO:-0800
TZNAME:PST
DTSTART:20251102T090000
END:STANDARD
BEGIN:DAYLIGHT
TZOFFSETFROM:-0800
TZOFFSETTO:-0700
TZNAME:PDT
DTSTART:20260308T100000
END:DAYLIGHT
BEGIN:STANDARD
TZOFFSETFROM:-0700
TZOFFSETTO:-0800
TZNAME:PST
DTSTART:20261101T090000
END:STANDARD
END:VTIMEZONE
BEGIN:VEVENT
DTSTART;TZID=America/Los_Angeles:20250530T173000
DTEND;TZID=America/Los_Angeles:20250530T193000
DTSTAMP:20260425T045642
CREATED:20250114T200141Z
LAST-MODIFIED:20250114T200512Z
UID:3587-1748626200-1748633400@wearegpa.com
SUMMARY:Cal Skate Night
DESCRIPTION:Last skate night of the school year!! So lets hula-skate the night away! Wear your best Hawaiian themed skate outfit to get ready for summer vaca. Aloha!
URL:https://wearegpa.com/event/cal-skate-night-3/
LOCATION:Cal Skate\, 6100 Commerce Blvd\, Rohnert Park\, CA\, 94928\, United States
CATEGORIES:Gravenstein Elementary,Hillcrest Event,School Wide Event
END:VEVENT
END:VCALENDAR