BEGIN:VCALENDAR
VERSION:2.0
PRODID:-//Gravenstein Parent Association (We are GPA!) - ECPv6.15.20//NONSGML v1.0//EN
CALSCALE:GREGORIAN
METHOD:PUBLISH
X-ORIGINAL-URL:https://wearegpa.com
X-WR-CALDESC:Events for Gravenstein Parent Association (We are GPA!)
REFRESH-INTERVAL;VALUE=DURATION:PT1H
X-Robots-Tag:noindex
X-PUBLISHED-TTL:PT1H
BEGIN:VTIMEZONE
TZID:America/Los_Angeles
BEGIN:DAYLIGHT
TZOFFSETFROM:-0800
TZOFFSETTO:-0700
TZNAME:PDT
DTSTART:20240310T100000
END:DAYLIGHT
BEGIN:STANDARD
TZOFFSETFROM:-0700
TZOFFSETTO:-0800
TZNAME:PST
DTSTART:20241103T090000
END:STANDARD
BEGIN:DAYLIGHT
TZOFFSETFROM:-0800
TZOFFSETTO:-0700
TZNAME:PDT
DTSTART:20250309T100000
END:DAYLIGHT
BEGIN:STANDARD
TZOFFSETFROM:-0700
TZOFFSETTO:-0800
TZNAME:PST
DTSTART:20251102T090000
END:STANDARD
BEGIN:DAYLIGHT
TZOFFSETFROM:-0800
TZOFFSETTO:-0700
TZNAME:PDT
DTSTART:20260308T100000
END:DAYLIGHT
BEGIN:STANDARD
TZOFFSETFROM:-0700
TZOFFSETTO:-0800
TZNAME:PST
DTSTART:20261101T090000
END:STANDARD
END:VTIMEZONE
BEGIN:VEVENT
DTSTART;VALUE=DATE:20251021
DTEND;VALUE=DATE:20251024
DTSTAMP:20260424T205035
CREATED:20250810T234141Z
LAST-MODIFIED:20250818T190151Z
UID:3639-1761004800-1761263999@wearegpa.com
SUMMARY:Jog-A-Thon
DESCRIPTION:Cheer on your joggers and support GPA during one of our BIGGEST fundraisers of the year!!! \nMore Details to come.
URL:https://wearegpa.com/event/jog-a-thon-4/
LOCATION:Gravenstein Elementary School\, 3840 Twig Ave\, Sebastopol\, CA\, 95472\, United States
CATEGORIES:Gravenstein Elementary
END:VEVENT
END:VCALENDAR