BEGIN:VCALENDAR
VERSION:2.0
PRODID:-//Gravenstein Parent Association (We are GPA!) - ECPv6.15.20//NONSGML v1.0//EN
CALSCALE:GREGORIAN
METHOD:PUBLISH
X-ORIGINAL-URL:https://wearegpa.com
X-WR-CALDESC:Events for Gravenstein Parent Association (We are GPA!)
REFRESH-INTERVAL;VALUE=DURATION:PT1H
X-Robots-Tag:noindex
X-PUBLISHED-TTL:PT1H
BEGIN:VTIMEZONE
TZID:America/Los_Angeles
BEGIN:DAYLIGHT
TZOFFSETFROM:-0800
TZOFFSETTO:-0700
TZNAME:PDT
DTSTART:20250309T100000
END:DAYLIGHT
BEGIN:STANDARD
TZOFFSETFROM:-0700
TZOFFSETTO:-0800
TZNAME:PST
DTSTART:20251102T090000
END:STANDARD
BEGIN:DAYLIGHT
TZOFFSETFROM:-0800
TZOFFSETTO:-0700
TZNAME:PDT
DTSTART:20260308T100000
END:DAYLIGHT
BEGIN:STANDARD
TZOFFSETFROM:-0700
TZOFFSETTO:-0800
TZNAME:PST
DTSTART:20261101T090000
END:STANDARD
BEGIN:DAYLIGHT
TZOFFSETFROM:-0800
TZOFFSETTO:-0700
TZNAME:PDT
DTSTART:20270314T100000
END:DAYLIGHT
BEGIN:STANDARD
TZOFFSETFROM:-0700
TZOFFSETTO:-0800
TZNAME:PST
DTSTART:20271107T090000
END:STANDARD
END:VTIMEZONE
BEGIN:VEVENT
DTSTART;VALUE=DATE:20260217
DTEND;VALUE=DATE:20260307
DTSTAMP:20260424T142011
CREATED:20250811T000419Z
LAST-MODIFIED:20260217T031223Z
UID:3653-1771286400-1772841599@wearegpa.com
SUMMARY:GPA Online Auction
DESCRIPTION:Check out our online auction and raise money for our amazing enrichment program\, teacher accounts and mini grants! There are so many amazing products and gift certificates to some of our awesome local businesses and artists to bid on. Auction goes live on February 17th and ends on March 6th.
URL:https://wearegpa.com/event/gpa-online-auction-2/
CATEGORIES:District Wide Event
ATTACH;FMTTYPE=image/webp:https://wearegpa.com/wp-content/uploads/2025/08/1000036810.webp
END:VEVENT
BEGIN:VEVENT
DTSTART;TZID=America/Los_Angeles:20260220T173000
DTEND;TZID=America/Los_Angeles:20260220T200000
DTSTAMP:20260424T142011
CREATED:20250811T000812Z
LAST-MODIFIED:20260217T030333Z
UID:3655-1771608600-1771617600@wearegpa.com
SUMMARY:GPA Bingo Night
DESCRIPTION:Join us at Gravenstein MPR for a Bingo Night!
URL:https://wearegpa.com/event/gpa-movie-night/
LOCATION:Gravenstein Elementary School\, 3840 Twig Ave\, Sebastopol\, CA\, 95472\, United States
CATEGORIES:District Wide Event
END:VEVENT
END:VCALENDAR