BEGIN:VCALENDAR
VERSION:2.0
PRODID:-//Gravenstein Parent Association (We are GPA!) - ECPv6.15.20//NONSGML v1.0//EN
CALSCALE:GREGORIAN
METHOD:PUBLISH
X-WR-CALNAME:Gravenstein Parent Association (We are GPA!)
X-ORIGINAL-URL:https://wearegpa.com
X-WR-CALDESC:Events for Gravenstein Parent Association (We are GPA!)
REFRESH-INTERVAL;VALUE=DURATION:PT1H
X-Robots-Tag:noindex
X-PUBLISHED-TTL:PT1H
BEGIN:VTIMEZONE
TZID:America/Los_Angeles
BEGIN:DAYLIGHT
TZOFFSETFROM:-0800
TZOFFSETTO:-0700
TZNAME:PDT
DTSTART:20250309T100000
END:DAYLIGHT
BEGIN:STANDARD
TZOFFSETFROM:-0700
TZOFFSETTO:-0800
TZNAME:PST
DTSTART:20251102T090000
END:STANDARD
BEGIN:DAYLIGHT
TZOFFSETFROM:-0800
TZOFFSETTO:-0700
TZNAME:PDT
DTSTART:20260308T100000
END:DAYLIGHT
BEGIN:STANDARD
TZOFFSETFROM:-0700
TZOFFSETTO:-0800
TZNAME:PST
DTSTART:20261101T090000
END:STANDARD
BEGIN:DAYLIGHT
TZOFFSETFROM:-0800
TZOFFSETTO:-0700
TZNAME:PDT
DTSTART:20270314T100000
END:DAYLIGHT
BEGIN:STANDARD
TZOFFSETFROM:-0700
TZOFFSETTO:-0800
TZNAME:PST
DTSTART:20271107T090000
END:STANDARD
END:VTIMEZONE
BEGIN:VEVENT
DTSTART;TZID=America/Los_Angeles:20260504T170000
DTEND;TZID=America/Los_Angeles:20260508T183000
DTSTAMP:20260424T170623
CREATED:20260403T164144Z
LAST-MODIFIED:20260421T151250Z
UID:3974-1777914000-1778265000@wearegpa.com
SUMMARY:Book Swap
DESCRIPTION:Bring in your gently used books to exchange for different books for free!  One book gives you one ticket to swap for another. If you don’t have books to bring in\, you can still leave with a new read.  All during Open House days!
URL:https://wearegpa.com/event/book-swap/
LOCATION:Gravenstein Elementary School\, 3840 Twig Ave\, Sebastopol\, CA\, 95472\, United States
CATEGORIES:Gravenstein Elementary
ATTACH;FMTTYPE=image/webp:https://wearegpa.com/wp-content/uploads/2026/04/Book-Swap-1.webp
END:VEVENT
END:VCALENDAR