BEGIN:VCALENDAR
VERSION:2.0
PRODID:-//Gravenstein Parent Association (We are GPA!) - ECPv6.15.20//NONSGML v1.0//EN
CALSCALE:GREGORIAN
METHOD:PUBLISH
X-WR-CALNAME:Gravenstein Parent Association (We are GPA!)
X-ORIGINAL-URL:https://wearegpa.com
X-WR-CALDESC:Events for Gravenstein Parent Association (We are GPA!)
REFRESH-INTERVAL;VALUE=DURATION:PT1H
X-Robots-Tag:noindex
X-PUBLISHED-TTL:PT1H
BEGIN:VTIMEZONE
TZID:America/Los_Angeles
BEGIN:DAYLIGHT
TZOFFSETFROM:-0800
TZOFFSETTO:-0700
TZNAME:PDT
DTSTART:20240310T100000
END:DAYLIGHT
BEGIN:STANDARD
TZOFFSETFROM:-0700
TZOFFSETTO:-0800
TZNAME:PST
DTSTART:20241103T090000
END:STANDARD
BEGIN:DAYLIGHT
TZOFFSETFROM:-0800
TZOFFSETTO:-0700
TZNAME:PDT
DTSTART:20250309T100000
END:DAYLIGHT
BEGIN:STANDARD
TZOFFSETFROM:-0700
TZOFFSETTO:-0800
TZNAME:PST
DTSTART:20251102T090000
END:STANDARD
BEGIN:DAYLIGHT
TZOFFSETFROM:-0800
TZOFFSETTO:-0700
TZNAME:PDT
DTSTART:20260308T100000
END:DAYLIGHT
BEGIN:STANDARD
TZOFFSETFROM:-0700
TZOFFSETTO:-0800
TZNAME:PST
DTSTART:20261101T090000
END:STANDARD
END:VTIMEZONE
BEGIN:VEVENT
DTSTART;TZID=America/Los_Angeles:20250823T110000
DTEND;TZID=America/Los_Angeles:20250823T150000
DTSTAMP:20260425T045945
CREATED:20250810T232049Z
LAST-MODIFIED:20250810T232733Z
UID:3626-1755946800-1755961200@wearegpa.com
SUMMARY:GLP Ice Cream Social
DESCRIPTION:Join your grade and meet your Grade Level Parent’s for the year!!!  This is a great way to meet your grade level families and meet some new friends at your grades specified time. See flyer for grade level times. Free ice cream for our GUSD families!!!
URL:https://wearegpa.com/event/glp-ice-cream-social/
LOCATION:Ragle Ranch Playground\, 500 Ragle Rd\, CA\, 95472\, United States
CATEGORIES:Gravenstein Elementary
END:VEVENT
BEGIN:VEVENT
DTSTART;TZID=America/Los_Angeles:20250618T180000
DTEND;TZID=America/Los_Angeles:20250618T190000
DTSTAMP:20260425T045945
CREATED:20250114T184453Z
LAST-MODIFIED:20250114T184520Z
UID:3556-1750269600-1750273200@wearegpa.com
SUMMARY:GPA Board Meeting
DESCRIPTION:Join us for our board meeting in Rm 5 located on the left side of the building where the Hillcrest office is. \n\nJoin via: Google Meet Link\nJoin by Phone:\n‪(US) +1 530-430-7704‬ PIN: ‪188 694 989‬#
URL:https://wearegpa.com/event/gpa-board-meeting-6/
LOCATION:Hillcrest Middle School\, 725 Bloomfield Rd\, Sebastopol\, CA\, 95472\, United States
CATEGORIES:Gravenstein Elementary,Hillcrest Event,School Wide Event
END:VEVENT
BEGIN:VEVENT
DTSTART;TZID=America/Los_Angeles:20250530T173000
DTEND;TZID=America/Los_Angeles:20250530T193000
DTSTAMP:20260425T045945
CREATED:20250114T200141Z
LAST-MODIFIED:20250114T200512Z
UID:3587-1748626200-1748633400@wearegpa.com
SUMMARY:Cal Skate Night
DESCRIPTION:Last skate night of the school year!! So lets hula-skate the night away! Wear your best Hawaiian themed skate outfit to get ready for summer vaca. Aloha!
URL:https://wearegpa.com/event/cal-skate-night-3/
LOCATION:Cal Skate\, 6100 Commerce Blvd\, Rohnert Park\, CA\, 94928\, United States
CATEGORIES:Gravenstein Elementary,Hillcrest Event,School Wide Event
END:VEVENT
BEGIN:VEVENT
DTSTART;TZID=America/Los_Angeles:20250521T180000
DTEND;TZID=America/Los_Angeles:20250521T190000
DTSTAMP:20260425T045945
CREATED:20250114T184346Z
LAST-MODIFIED:20250114T184347Z
UID:3554-1747850400-1747854000@wearegpa.com
SUMMARY:GPA Board Meeting
DESCRIPTION:Join us for our board meeting in Rm 5 located on the left side of the building where the Hillcrest office is. \n\nJoin via: Google Meet Link\nJoin by Phone:\n‪(US) +1 530-430-7704‬ PIN: ‪188 694 989‬#
URL:https://wearegpa.com/event/gpa-board-meeting-5/
LOCATION:Hillcrest Middle School\, 725 Bloomfield Rd\, Sebastopol\, CA\, 95472\, United States
CATEGORIES:Gravenstein Elementary,Hillcrest Event,School Wide Event
END:VEVENT
BEGIN:VEVENT
DTSTART;VALUE=DATE:20250516
DTEND;VALUE=DATE:20250517
DTSTAMP:20260425T045945
CREATED:20250114T195656Z
LAST-MODIFIED:20250114T195658Z
UID:3585-1747353600-1747439999@wearegpa.com
SUMMARY:Hillcrest Color Run
DESCRIPTION:Hillcrest Middle schoolers will be jogging to raise money for GPA! More details to come!!
URL:https://wearegpa.com/event/hillcrest-color-run/
LOCATION:Hillcrest Middle School\, 725 Bloomfield Rd\, Sebastopol\, CA\, 95472\, United States
CATEGORIES:Hillcrest Event
END:VEVENT
BEGIN:VEVENT
DTSTART;TZID=America/Los_Angeles:20250501T170000
DTEND;TZID=America/Los_Angeles:20250501T220000
DTSTAMP:20260425T045945
CREATED:20250114T193632Z
LAST-MODIFIED:20250114T193634Z
UID:3575-1746118800-1746136800@wearegpa.com
SUMMARY:Dine & Donate: The Rewind Arcade
DESCRIPTION:Join us at The Rewind Arcade for our Dine & Donate partner. Every first Thursday of the month. Play some video & pinball and grab some food from the Barlow. 10% of all beer sales is donated to GPA. 5-8pm for Kids/Adults 8-10pm for 21+ only.
URL:https://wearegpa.com/event/dine-donate-the-rewind-arcade-5/
LOCATION:The Rewind Arcade\, 6780 Depot St #140\, Sebastopol\, CA\, 95472\, United States
CATEGORIES:Gravenstein Elementary,Hillcrest Event,School Wide Event
ATTACH;FMTTYPE=image/jpeg:https://wearegpa.com/wp-content/uploads/2025/01/GPA-Night-at-The-Rewind-Flyer.jpg
END:VEVENT
BEGIN:VEVENT
DTSTART;TZID=America/Los_Angeles:20250421T170000
DTEND;TZID=America/Los_Angeles:20250425T190000
DTSTAMP:20260425T045945
CREATED:20250114T195304Z
LAST-MODIFIED:20250114T195306Z
UID:3583-1745254800-1745607600@wearegpa.com
SUMMARY:Book Fair
DESCRIPTION:Calling all book worms and literary adventure seekers! We are having our Literati book fair at Gravenstein Elementary. Open house will be at the same time.  So stop on by the MPR before or after you check at your child’s classroom.
URL:https://wearegpa.com/event/book-fair/
LOCATION:Gravenstein Elementary School\, 3840 Twig Ave\, Sebastopol\, CA\, 95472\, United States
CATEGORIES:Gravenstein Elementary,School Wide Event
END:VEVENT
END:VCALENDAR