BEGIN:VCALENDAR
VERSION:2.0
PRODID:-//Gravenstein Parent Association (We are GPA!) - ECPv6.15.20//NONSGML v1.0//EN
CALSCALE:GREGORIAN
METHOD:PUBLISH
X-ORIGINAL-URL:https://wearegpa.com
X-WR-CALDESC:Events for Gravenstein Parent Association (We are GPA!)
REFRESH-INTERVAL;VALUE=DURATION:PT1H
X-Robots-Tag:noindex
X-PUBLISHED-TTL:PT1H
BEGIN:VTIMEZONE
TZID:America/Los_Angeles
BEGIN:DAYLIGHT
TZOFFSETFROM:-0800
TZOFFSETTO:-0700
TZNAME:PDT
DTSTART:20250309T100000
END:DAYLIGHT
BEGIN:STANDARD
TZOFFSETFROM:-0700
TZOFFSETTO:-0800
TZNAME:PST
DTSTART:20251102T090000
END:STANDARD
BEGIN:DAYLIGHT
TZOFFSETFROM:-0800
TZOFFSETTO:-0700
TZNAME:PDT
DTSTART:20260308T100000
END:DAYLIGHT
BEGIN:STANDARD
TZOFFSETFROM:-0700
TZOFFSETTO:-0800
TZNAME:PST
DTSTART:20261101T090000
END:STANDARD
BEGIN:DAYLIGHT
TZOFFSETFROM:-0800
TZOFFSETTO:-0700
TZNAME:PDT
DTSTART:20270314T100000
END:DAYLIGHT
BEGIN:STANDARD
TZOFFSETFROM:-0700
TZOFFSETTO:-0800
TZNAME:PST
DTSTART:20271107T090000
END:STANDARD
END:VTIMEZONE
BEGIN:VEVENT
DTSTART;VALUE=DATE:20260217
DTEND;VALUE=DATE:20260307
DTSTAMP:20260425T034755
CREATED:20250811T000419Z
LAST-MODIFIED:20260217T031223Z
UID:3653-1771286400-1772841599@wearegpa.com
SUMMARY:GPA Online Auction
DESCRIPTION:Check out our online auction and raise money for our amazing enrichment program\, teacher accounts and mini grants! There are so many amazing products and gift certificates to some of our awesome local businesses and artists to bid on. Auction goes live on February 17th and ends on March 6th.
URL:https://wearegpa.com/event/gpa-online-auction-2/
LOCATION:CA
CATEGORIES:District Wide Event
ATTACH;FMTTYPE=image/webp:https://wearegpa.com/wp-content/uploads/2025/08/1000036810.webp
END:VEVENT
BEGIN:VEVENT
DTSTART;TZID=America/Los_Angeles:20260220T173000
DTEND;TZID=America/Los_Angeles:20260220T200000
DTSTAMP:20260425T034755
CREATED:20250811T000812Z
LAST-MODIFIED:20260217T030333Z
UID:3655-1771608600-1771617600@wearegpa.com
SUMMARY:GPA Bingo Night
DESCRIPTION:Join us at Gravenstein MPR for a Bingo Night!
URL:https://wearegpa.com/event/gpa-movie-night/
LOCATION:Gravenstein Elementary School\, 3840 Twig Ave\, Sebastopol\, CA\, 95472\, United States
CATEGORIES:District Wide Event
END:VEVENT
BEGIN:VEVENT
DTSTART;TZID=America/Los_Angeles:20260325T180000
DTEND;TZID=America/Los_Angeles:20260325T190000
DTSTAMP:20260425T034755
CREATED:20260309T180847Z
LAST-MODIFIED:20260309T180847Z
UID:3959-1774461600-1774465200@wearegpa.com
SUMMARY:GPA Board Meeting
DESCRIPTION:Join us for our monthly board meetings! Come see how your donations are being used and learn about ways you can get involved and help support our school community. \nMeetings are held every 3rd Wednesday of the month. Please note that dates may occasionally change due to summer and school breaks\, so be sure to stay up to date through Monday Messages. \nGPA Board Meeting – Hillcrest Rm 5 \nEvery 3rd Wednesday  6:00 – 7:00pm\nTime zone: America/Los_Angeles\nGoogle Meet joining info\nVideo call link: https://meet.google.com/phr-kfre-moa\nOr dial: ‪(US) +1 530-430-7704‬ PIN: ‪188 694 989‬#\nMore phone numbers: https://tel.meet/phr-kfre-moa?pin=5288029442371
URL:https://wearegpa.com/event/gpa-board-meeting/
LOCATION:Hillcrest Middle School\, 725 Bloomfield Rd\, Sebastopol\, CA\, 95472\, United States
CATEGORIES:District Wide Event
END:VEVENT
BEGIN:VEVENT
DTSTART;TZID=America/Los_Angeles:20260327T173000
DTEND;TZID=America/Los_Angeles:20260327T193000
DTSTAMP:20260425T034755
CREATED:20250810T235923Z
LAST-MODIFIED:20260217T031514Z
UID:3649-1774632600-1774639800@wearegpa.com
SUMMARY:Cal Skate Night
DESCRIPTION:Put on your skates and help support GPA! Doors open at 5:30 and we have the floor till 7:30!
URL:https://wearegpa.com/event/cal-skate-night-6/
LOCATION:Cal Skate\, 6100 Commerce Blvd\, Rohnert Park\, CA\, 94928\, United States
CATEGORIES:District Wide Event
END:VEVENT
BEGIN:VEVENT
DTSTART;TZID=America/Los_Angeles:20260415T150000
DTEND;TZID=America/Los_Angeles:20260415T200000
DTSTAMP:20260425T034755
CREATED:20260403T164553Z
LAST-MODIFIED:20260403T171009Z
UID:3980-1776265200-1776283200@wearegpa.com
SUMMARY:Mombo's Pizza Night!
DESCRIPTION:
URL:https://wearegpa.com/event/mombos-pizza-night/
LOCATION:Mombo’s Pizza\, 560 Gravenstein Hwy N\, Sebastopol\, CA\, 95472\, United States
CATEGORIES:District Wide Event
ATTACH;FMTTYPE=image/webp:https://wearegpa.com/wp-content/uploads/2026/04/Mombos-DineDonate-April-15-2026.pdf.webp
END:VEVENT
BEGIN:VEVENT
DTSTART;TZID=America/Los_Angeles:20260415T180000
DTEND;TZID=America/Los_Angeles:20260415T190000
DTSTAMP:20260425T034755
CREATED:20260403T163111Z
LAST-MODIFIED:20260403T163232Z
UID:3967-1776276000-1776279600@wearegpa.com
SUMMARY:GPA Board Meeting
DESCRIPTION:Join us for our monthly board meetings! Come see how your donations are being used and learn about ways you can get involved and help support our school community. \nMeetings are held every 3rd Wednesday of the month. Please note that dates may occasionally change due to summer and school breaks\, so be sure to stay up to date through Monday Messages. \nGPA Board Meeting – Hillcrest Rm 5 \nEvery 3rd Wednesday  6:00 – 7:00pm\nTime zone: America/Los_Angeles\nGoogle Meet joining info\nVideo call link: https://meet.google.com/phr-kfre-moa\nOr dial: ‪(US) +1 530-430-7704‬ PIN: ‪188 694 989‬#\nMore phone numbers: https://tel.meet/phr-kfre-moa?pin=5288029442371
URL:https://wearegpa.com/event/gpa-board-meeting-2/
LOCATION:Hillcrest Middle School\, 725 Bloomfield Rd\, Sebastopol\, CA\, 95472\, United States
CATEGORIES:District Wide Event
END:VEVENT
BEGIN:VEVENT
DTSTART;VALUE=DATE:20260504
DTEND;VALUE=DATE:20260509
DTSTAMP:20260425T034755
CREATED:20260403T164849Z
LAST-MODIFIED:20260421T150748Z
UID:3983-1777852800-1778284799@wearegpa.com
SUMMARY:Teacher & Staff Appreciation Week
DESCRIPTION:Let’s celebrate the incredible teachers—past\, present\, and future—who play such an important role in our children’s lives (right alongside us as parents!). They dedicate so much time and heart to educating and inspiring our kids\, and it’s time to show our appreciation. \nYou can help by volunteering for setup or cleanup\, or by donating an item for one of our themed days.
URL:https://wearegpa.com/event/teacher-staff-appreciation-week/
LOCATION:CA
CATEGORIES:District Wide Event
ATTACH;FMTTYPE=image/webp:https://wearegpa.com/wp-content/uploads/2026/04/Take-a-look-at-my-Canva-design.webp
END:VEVENT
BEGIN:VEVENT
DTSTART;TZID=America/Los_Angeles:20260504T170000
DTEND;TZID=America/Los_Angeles:20260508T183000
DTSTAMP:20260425T034755
CREATED:20260403T164144Z
LAST-MODIFIED:20260421T151250Z
UID:3974-1777914000-1778265000@wearegpa.com
SUMMARY:Book Swap
DESCRIPTION:Bring in your gently used books to exchange for different books for free!  One book gives you one ticket to swap for another. If you don’t have books to bring in\, you can still leave with a new read.  All during Open House days!
URL:https://wearegpa.com/event/book-swap/
LOCATION:Gravenstein Elementary School\, 3840 Twig Ave\, Sebastopol\, CA\, 95472\, United States
CATEGORIES:Gravenstein Elementary
ATTACH;FMTTYPE=image/webp:https://wearegpa.com/wp-content/uploads/2026/04/Book-Swap-1.webp
END:VEVENT
BEGIN:VEVENT
DTSTART;VALUE=DATE:20260511
DTEND;VALUE=DATE:20260523
DTSTAMP:20260425T034755
CREATED:20260424T202131Z
LAST-MODIFIED:20260424T202137Z
UID:4011-1778457600-1779494399@wearegpa.com
SUMMARY:Read-A-Thon
DESCRIPTION:We’re getting ready to READ + RAISE! 🎉 Our Read-A-Thon kicks off on May 11-22 and our goal is to raise $21\,000 for enrichments\, teacher accounts and mini grants!!  Every minute read and every dollar raised makes a difference! Let’s make this our best fundraiser yet! 📚💙
URL:https://wearegpa.com/event/read-a-thon/
LOCATION:CA
CATEGORIES:Gravenstein Elementary
ATTACH;FMTTYPE=image/webp:https://wearegpa.com/wp-content/uploads/2026/04/Pre-Event.webp
END:VEVENT
BEGIN:VEVENT
DTSTART;VALUE=DATE:20260515
DTEND;VALUE=DATE:20260516
DTSTAMP:20260425T034755
CREATED:20250811T002511Z
LAST-MODIFIED:20260408T153250Z
UID:3661-1778803200-1778889599@wearegpa.com
SUMMARY:Hillcrest Color Run
DESCRIPTION:Think pristine white shirts turned into vibrant colors!! Help create the most vibrant and unforgettable fun run for our Hillcrest students while supporting GPA! More details to come!
URL:https://wearegpa.com/event/hillcrest-color-run-2/
LOCATION:Hillcrest Middle School\, 725 Bloomfield Rd\, Sebastopol\, CA\, 95472\, United States
CATEGORIES:Hillcrest Event
ATTACH;FMTTYPE=image/webp:https://wearegpa.com/wp-content/uploads/2025/08/2026-Color-Run.webp
END:VEVENT
BEGIN:VEVENT
DTSTART;TZID=America/Los_Angeles:20260520T180000
DTEND;TZID=America/Los_Angeles:20260520T190000
DTSTAMP:20260425T034755
CREATED:20260403T163347Z
LAST-MODIFIED:20260403T163351Z
UID:3970-1779300000-1779303600@wearegpa.com
SUMMARY:GPA Board Meeting
DESCRIPTION:Join us for our monthly board meetings! Come see how your donations are being used and learn about ways you can get involved and help support our school community. \nMeetings are held every 3rd Wednesday of the month. Please note that dates may occasionally change due to summer and school breaks\, so be sure to stay up to date through Monday Messages. \nGPA Board Meeting – Hillcrest Rm 5 \nEvery 3rd Wednesday  6:00 – 7:00pm\nTime zone: America/Los_Angeles\nGoogle Meet joining info\nVideo call link: https://meet.google.com/phr-kfre-moa\nOr dial: ‪(US) +1 530-430-7704‬ PIN: ‪188 694 989‬#\nMore phone numbers: https://tel.meet/phr-kfre-moa?pin=5288029442371
URL:https://wearegpa.com/event/gpa-board-meeting-3/
LOCATION:Hillcrest Middle School\, 725 Bloomfield Rd\, Sebastopol\, CA\, 95472\, United States
CATEGORIES:District Wide Event
END:VEVENT
BEGIN:VEVENT
DTSTART;TZID=America/Los_Angeles:20260529T173000
DTEND;TZID=America/Los_Angeles:20260529T193000
DTSTAMP:20260425T034755
CREATED:20250811T000050Z
LAST-MODIFIED:20260217T031654Z
UID:3651-1780075800-1780083000@wearegpa.com
SUMMARY:Cal Skate Night
DESCRIPTION:Put on your skates and help support GPA! Doors open at 5:30 and we have the floor till 7:30!
URL:https://wearegpa.com/event/cal-skate-night-7/
LOCATION:Cal Skate\, 6100 Commerce Blvd\, Rohnert Park\, CA\, 94928\, United States
CATEGORIES:District Wide Event
END:VEVENT
BEGIN:VEVENT
DTSTART;TZID=America/Los_Angeles:20260624T180000
DTEND;TZID=America/Los_Angeles:20260624T190000
DTSTAMP:20260425T034755
CREATED:20260403T163543Z
LAST-MODIFIED:20260403T163546Z
UID:3972-1782324000-1782327600@wearegpa.com
SUMMARY:GPA Board Meeting
DESCRIPTION:Join us for our monthly board meetings! Come see how your donations are being used and learn about ways you can get involved and help support our school community. \nMeetings are held every 3rd Wednesday of the month. Please note that dates may occasionally change due to summer and school breaks\, so be sure to stay up to date through Monday Messages. \nGPA Board Meeting – Hillcrest Rm 5 \nEvery 3rd Wednesday  6:00 – 7:00pm\nTime zone: America/Los_Angeles\nGoogle Meet joining info\nVideo call link: https://meet.google.com/phr-kfre-moa\nOr dial: ‪(US) +1 530-430-7704‬ PIN: ‪188 694 989‬#\nMore phone numbers: https://tel.meet/phr-kfre-moa?pin=5288029442371
URL:https://wearegpa.com/event/gpa-board-meeting-7/
LOCATION:Hillcrest Middle School\, 725 Bloomfield Rd\, Sebastopol\, CA\, 95472\, United States
CATEGORIES:District Wide Event
END:VEVENT
BEGIN:VEVENT
DTSTART;VALUE=DATE:20260808
DTEND;VALUE=DATE:20260810
DTSTAMP:20260425T034755
CREATED:20260403T165039Z
LAST-MODIFIED:20260408T151957Z
UID:3985-1786147200-1786319999@wearegpa.com
SUMMARY:Apple Faire Volunteering
DESCRIPTION:Come volunteer with Farm Trails helping the Green Team at the faire!! Be part of the community while giving back to GPA!! Sign up Here: SignupGenius
URL:https://wearegpa.com/event/apple-faire-volunteering/
LOCATION:CA
CATEGORIES:District Wide Event
ATTACH;FMTTYPE=image/webp:https://wearegpa.com/wp-content/uploads/2026/04/IMG_7539.webp
END:VEVENT
END:VCALENDAR