BEGIN:VCALENDAR
VERSION:2.0
PRODID:-//Gravenstein Parent Association (We are GPA!) - ECPv6.15.20//NONSGML v1.0//EN
CALSCALE:GREGORIAN
METHOD:PUBLISH
X-ORIGINAL-URL:https://wearegpa.com
X-WR-CALDESC:Events for Gravenstein Parent Association (We are GPA!)
REFRESH-INTERVAL;VALUE=DURATION:PT1H
X-Robots-Tag:noindex
X-PUBLISHED-TTL:PT1H
BEGIN:VTIMEZONE
TZID:America/Los_Angeles
BEGIN:DAYLIGHT
TZOFFSETFROM:-0800
TZOFFSETTO:-0700
TZNAME:PDT
DTSTART:20240310T100000
END:DAYLIGHT
BEGIN:STANDARD
TZOFFSETFROM:-0700
TZOFFSETTO:-0800
TZNAME:PST
DTSTART:20241103T090000
END:STANDARD
BEGIN:DAYLIGHT
TZOFFSETFROM:-0800
TZOFFSETTO:-0700
TZNAME:PDT
DTSTART:20250309T100000
END:DAYLIGHT
BEGIN:STANDARD
TZOFFSETFROM:-0700
TZOFFSETTO:-0800
TZNAME:PST
DTSTART:20251102T090000
END:STANDARD
BEGIN:DAYLIGHT
TZOFFSETFROM:-0800
TZOFFSETTO:-0700
TZNAME:PDT
DTSTART:20260308T100000
END:DAYLIGHT
BEGIN:STANDARD
TZOFFSETFROM:-0700
TZOFFSETTO:-0800
TZNAME:PST
DTSTART:20261101T090000
END:STANDARD
END:VTIMEZONE
BEGIN:VEVENT
DTSTART;TZID=America/Los_Angeles:20251107T173000
DTEND;TZID=America/Los_Angeles:20251107T193000
DTSTAMP:20260424T165618
CREATED:20250810T234442Z
LAST-MODIFIED:20251030T194813Z
UID:3641-1762536600-1762543800@wearegpa.com
SUMMARY:Cal Skate Night
DESCRIPTION:Support GPA while skating at Cal Skate Rohnert Park!!! Doors open at 5:30 – 7:30
URL:https://wearegpa.com/event/hms-skate-night/
LOCATION:Cal Skate\, 6100 Commerce Blvd\, Rohnert Park\, CA\, 94928\, United States
CATEGORIES:District Wide Event
END:VEVENT
BEGIN:VEVENT
DTSTART;TZID=America/Los_Angeles:20251114T170000
DTEND;TZID=America/Los_Angeles:20251114T190000
DTSTAMP:20260424T165618
CREATED:20250810T235322Z
LAST-MODIFIED:20251030T194915Z
UID:3645-1763139600-1763146800@wearegpa.com
SUMMARY:Spaghetti Social & Silent Auction
DESCRIPTION:Spaghetti Social & Silent Auction!! Buy your tickets early and come enjoy an amazing dinner by Pasta King and battle it out on our amazing silent auction consisting of AUCTION BASKETS put together by our GLP’s!! \n  \n 
URL:https://wearegpa.com/event/pasta-feed-silent-auction/
LOCATION:Hillcrest Middle School\, 725 Bloomfield Rd\, Sebastopol\, CA\, 95472\, United States
CATEGORIES:District Wide Event
ATTACH;FMTTYPE=image/webp:https://wearegpa.com/wp-content/uploads/2025/08/Spaghetti-Social-Flyer-2025.webp
END:VEVENT
END:VCALENDAR